BEGIN:VCALENDAR
VERSION:2.0
PRODID:spatie/icalendar-generator
DESCRIPTION:Events from Tenney Lapham
X-WR-CALDESC:Events from Tenney Lapham
REFRESH-INTERVAL;VALUE=DURATION:PT1440M
X-PUBLISHED-TTL:PT1440M
BEGIN:VTIMEZONE
TZID:Etc/GMT+0
BEGIN:STANDARD
DTSTART:20250914T190000Z
TZOFFSETFROM:+0000
TZOFFSETTO:+0000
END:STANDARD
END:VTIMEZONE
BEGIN:VTIMEZONE
TZID:UTC
BEGIN:STANDARD
DTSTART:20250726T031642Z
TZOFFSETFROM:+0000
TZOFFSETTO:+0000
END:STANDARD
END:VTIMEZONE
BEGIN:VEVENT
UID:171-135
DTSTAMP:20260422T031642Z
SUMMARY:TLNA Council Meeting. Open meeting. MY Arts\,  1055 E Mifflin St\, 
 7-9pm.
LOCATION:
ORGANIZER;CN=Susan (Sue) Babcock:MAILTO:sebabcock282@gmail.com
DTSTART;TZID=Etc/GMT+0:20260611T190000
DTEND;TZID=Etc/GMT+0:20260611T210000
X-ALT-DESC;FMTTYPE=TEXT/HTML:
CATEGORIES:General
URL;VALUE=URI:https://tenneylapham.org/mc-events/tlna-council-meeting-open-
 meeting-my-arts-1055-e-mifflin-st-7-9pm/
METHOD:PUBLISH
END:VEVENT
END:VCALENDAR